BEGIN:VCALENDAR
VERSION:2.0
PRODID:-//CRIC - ECPv6.15.20//NONSGML v1.0//EN
CALSCALE:GREGORIAN
METHOD:PUBLISH
X-WR-CALNAME:CRIC
X-ORIGINAL-URL:https://colibri-cric.org
X-WR-CALDESC:Évènements pour CRIC
REFRESH-INTERVAL;VALUE=DURATION:PT1H
X-Robots-Tag:noindex
X-PUBLISHED-TTL:PT1H
BEGIN:VTIMEZONE
TZID:Europe/Paris
BEGIN:DAYLIGHT
TZOFFSETFROM:+0100
TZOFFSETTO:+0200
TZNAME:CEST
DTSTART:20250330T010000
END:DAYLIGHT
BEGIN:STANDARD
TZOFFSETFROM:+0200
TZOFFSETTO:+0100
TZNAME:CET
DTSTART:20251026T010000
END:STANDARD
BEGIN:DAYLIGHT
TZOFFSETFROM:+0100
TZOFFSETTO:+0200
TZNAME:CEST
DTSTART:20260329T010000
END:DAYLIGHT
BEGIN:STANDARD
TZOFFSETFROM:+0200
TZOFFSETTO:+0100
TZNAME:CET
DTSTART:20261025T010000
END:STANDARD
BEGIN:DAYLIGHT
TZOFFSETFROM:+0100
TZOFFSETTO:+0200
TZNAME:CEST
DTSTART:20270328T010000
END:DAYLIGHT
BEGIN:STANDARD
TZOFFSETFROM:+0200
TZOFFSETTO:+0100
TZNAME:CET
DTSTART:20271031T010000
END:STANDARD
END:VTIMEZONE
BEGIN:VEVENT
DTSTART;TZID=Europe/Paris:20260425T150000
DTEND;TZID=Europe/Paris:20260425T170000
DTSTAMP:20260420T044444
CREATED:20260419T113632Z
LAST-MODIFIED:20260419T132545Z
UID:3568-1777129200-1777136400@colibri-cric.org
SUMMARY:Webinaires : « L’Afrique : la fabrique des nouvelles relations  internationales »
DESCRIPTION:Ce premier webinaire traitera d’une part\, des stratégies d&#39;influence de la Russie en Afrique subsaharienne ; et d’autre part\, des modèles de diversification des partenariats sécuritaires en Afrique centrale. \nIntervenants :\n1 – Les modèles de diversification des partenariats sécuritaires en Afrique centrale : entre pragmatisme et contrainte. Étude comparée du Cameroun et de la RCA \nFouda Antoine Depadou Fabrice est docteur en relations internationales\, spécialiste des enjeux de paix\, de sécurité et de gouvernance stratégique en Afrique. Chercheur associé au CRIC et analyste des dynamiques sécuritaires régionaux\, ses travaux portent sur la consolidation de la paix\, la coopération sécuritaire et les politiques publiques de sécurité. Il contribue régulièrement à des projets de recherche et d’analyse stratégique en lien avec des institutions académiques et des acteurs du secteur de la sécurité. Il est auteur de l’ouvrage « Consolider la paix en Afrique : l’Union africaine à la croisée des chemins »\, publié aux éditions L’Harmattan en novembre 2025. \n2 -Le retour du grand Ours en Afrique subsaharienne ou l’expression du nouveau terreau du soft power \nTechimo Tafempa Brice est docteur en science politique de l’Université de Dschang (Cameroun). Membre de plusieurs associations scientifiques\, notamment du Colibri Research and Innovation Center (CRIC)\, ses recherches s’inscrivent dans les champs de la géopolitique et des politiques publiques\, avec une orientation vers les enjeux stratégiques contemporains de l’Afrique dans le système international. \nModération : \nMetsagho Mekontcho Boris\, Ph.D en science politique et directeur exécutif du Colibri Research and Innovation Center (CRIC). \nLes interventions et le débat se tiendront en français. La visioconférence aura lieu sur Zoom\, sera enregistré et disponible sur la page YouTube du CRIC \n  \nLien de connexion : https://calendar.app.google/ZpA952yYAogq519BA.
URL:https://colibri-cric.org/evenement/webinaires-lafrique-la-fabrique-des-nouvelles-relations-internationales/
ATTACH;FMTTYPE=image/png:https://colibri-cric.org/wp-content/uploads/2026/04/CRIC_INIR-Webserie-webinaire-1-.png
ORGANIZER;CN="CRIC - INIR":MAILTO:cotact@colibri-cric.org
END:VEVENT
END:VCALENDAR